BEGIN:VCALENDAR
VERSION:2.0
PRODID:-//Harbor Pines Golf Club - ECPv6.15.18//NONSGML v1.0//EN
CALSCALE:GREGORIAN
METHOD:PUBLISH
X-WR-CALNAME:Harbor Pines Golf Club
X-ORIGINAL-URL:https://www.harborpines.com
X-WR-CALDESC:Events for Harbor Pines Golf Club
REFRESH-INTERVAL;VALUE=DURATION:PT1H
X-Robots-Tag:noindex
X-PUBLISHED-TTL:PT1H
BEGIN:VTIMEZONE
TZID:America/New_York
BEGIN:DAYLIGHT
TZOFFSETFROM:-0500
TZOFFSETTO:-0400
TZNAME:EDT
DTSTART:20270314T070000
END:DAYLIGHT
BEGIN:STANDARD
TZOFFSETFROM:-0400
TZOFFSETTO:-0500
TZNAME:EST
DTSTART:20271107T060000
END:STANDARD
BEGIN:DAYLIGHT
TZOFFSETFROM:-0500
TZOFFSETTO:-0400
TZNAME:EDT
DTSTART:20280312T070000
END:DAYLIGHT
BEGIN:STANDARD
TZOFFSETFROM:-0400
TZOFFSETTO:-0500
TZNAME:EST
DTSTART:20281105T060000
END:STANDARD
BEGIN:DAYLIGHT
TZOFFSETFROM:-0500
TZOFFSETTO:-0400
TZNAME:EDT
DTSTART:20290311T070000
END:DAYLIGHT
BEGIN:STANDARD
TZOFFSETFROM:-0400
TZOFFSETTO:-0500
TZNAME:EST
DTSTART:20291104T060000
END:STANDARD
BEGIN:DAYLIGHT
TZOFFSETFROM:-0500
TZOFFSETTO:-0400
TZNAME:EDT
DTSTART:20300310T070000
END:DAYLIGHT
BEGIN:STANDARD
TZOFFSETFROM:-0400
TZOFFSETTO:-0500
TZNAME:EST
DTSTART:20301103T060000
END:STANDARD
END:VTIMEZONE
BEGIN:VEVENT
DTSTART;TZID=America/New_York:20281102T183000
DTEND;TZID=America/New_York:20281102T203000
DTSTAMP:20260422T155628
CREATED:20260319T194043Z
LAST-MODIFIED:20260319T194403Z
UID:10003375-1856802600-1856809800@www.harborpines.com
SUMMARY:Trivia Night
DESCRIPTION:
URL:https://www.harborpines.com/event/trivia-night-4/2028-11-02/
ATTACH;FMTTYPE=image/jpeg:https://www.harborpines.com/wp-content/uploads/sites/9235/2026/03/trivia-night-2026April-1.jpg
END:VEVENT
BEGIN:VEVENT
DTSTART;TZID=America/New_York:20281109T183000
DTEND;TZID=America/New_York:20281109T203000
DTSTAMP:20260422T155628
CREATED:20260319T194043Z
LAST-MODIFIED:20260319T194403Z
UID:10003376-1857407400-1857414600@www.harborpines.com
SUMMARY:Trivia Night
DESCRIPTION:
URL:https://www.harborpines.com/event/trivia-night-4/2028-11-09/
ATTACH;FMTTYPE=image/jpeg:https://www.harborpines.com/wp-content/uploads/sites/9235/2026/03/trivia-night-2026April-1.jpg
END:VEVENT
BEGIN:VEVENT
DTSTART;TZID=America/New_York:20281116T183000
DTEND;TZID=America/New_York:20281116T203000
DTSTAMP:20260422T155628
CREATED:20260319T194043Z
LAST-MODIFIED:20260319T194403Z
UID:10003377-1858012200-1858019400@www.harborpines.com
SUMMARY:Trivia Night
DESCRIPTION:
URL:https://www.harborpines.com/event/trivia-night-4/2028-11-16/
ATTACH;FMTTYPE=image/jpeg:https://www.harborpines.com/wp-content/uploads/sites/9235/2026/03/trivia-night-2026April-1.jpg
END:VEVENT
BEGIN:VEVENT
DTSTART;TZID=America/New_York:20281123T183000
DTEND;TZID=America/New_York:20281123T203000
DTSTAMP:20260422T155628
CREATED:20260319T194043Z
LAST-MODIFIED:20260319T194403Z
UID:10003378-1858617000-1858624200@www.harborpines.com
SUMMARY:Trivia Night
DESCRIPTION:
URL:https://www.harborpines.com/event/trivia-night-4/2028-11-23/
ATTACH;FMTTYPE=image/jpeg:https://www.harborpines.com/wp-content/uploads/sites/9235/2026/03/trivia-night-2026April-1.jpg
END:VEVENT
BEGIN:VEVENT
DTSTART;TZID=America/New_York:20281130T183000
DTEND;TZID=America/New_York:20281130T203000
DTSTAMP:20260422T155628
CREATED:20260319T194043Z
LAST-MODIFIED:20260319T194403Z
UID:10003379-1859221800-1859229000@www.harborpines.com
SUMMARY:Trivia Night
DESCRIPTION:
URL:https://www.harborpines.com/event/trivia-night-4/2028-11-30/
ATTACH;FMTTYPE=image/jpeg:https://www.harborpines.com/wp-content/uploads/sites/9235/2026/03/trivia-night-2026April-1.jpg
END:VEVENT
BEGIN:VEVENT
DTSTART;TZID=America/New_York:20281207T183000
DTEND;TZID=America/New_York:20281207T203000
DTSTAMP:20260422T155628
CREATED:20260319T194043Z
LAST-MODIFIED:20260319T194403Z
UID:10003380-1859826600-1859833800@www.harborpines.com
SUMMARY:Trivia Night
DESCRIPTION:
URL:https://www.harborpines.com/event/trivia-night-4/2028-12-07/
ATTACH;FMTTYPE=image/jpeg:https://www.harborpines.com/wp-content/uploads/sites/9235/2026/03/trivia-night-2026April-1.jpg
END:VEVENT
BEGIN:VEVENT
DTSTART;TZID=America/New_York:20281214T183000
DTEND;TZID=America/New_York:20281214T203000
DTSTAMP:20260422T155628
CREATED:20260319T194043Z
LAST-MODIFIED:20260319T194403Z
UID:10003381-1860431400-1860438600@www.harborpines.com
SUMMARY:Trivia Night
DESCRIPTION:
URL:https://www.harborpines.com/event/trivia-night-4/2028-12-14/
ATTACH;FMTTYPE=image/jpeg:https://www.harborpines.com/wp-content/uploads/sites/9235/2026/03/trivia-night-2026April-1.jpg
END:VEVENT
BEGIN:VEVENT
DTSTART;TZID=America/New_York:20281221T183000
DTEND;TZID=America/New_York:20281221T203000
DTSTAMP:20260422T155628
CREATED:20260319T194043Z
LAST-MODIFIED:20260319T194403Z
UID:10003382-1861036200-1861043400@www.harborpines.com
SUMMARY:Trivia Night
DESCRIPTION:
URL:https://www.harborpines.com/event/trivia-night-4/2028-12-21/
ATTACH;FMTTYPE=image/jpeg:https://www.harborpines.com/wp-content/uploads/sites/9235/2026/03/trivia-night-2026April-1.jpg
END:VEVENT
BEGIN:VEVENT
DTSTART;TZID=America/New_York:20281228T183000
DTEND;TZID=America/New_York:20281228T203000
DTSTAMP:20260422T155628
CREATED:20260319T194043Z
LAST-MODIFIED:20260319T194403Z
UID:10003383-1861641000-1861648200@www.harborpines.com
SUMMARY:Trivia Night
DESCRIPTION:
URL:https://www.harborpines.com/event/trivia-night-4/2028-12-28/
ATTACH;FMTTYPE=image/jpeg:https://www.harborpines.com/wp-content/uploads/sites/9235/2026/03/trivia-night-2026April-1.jpg
END:VEVENT
BEGIN:VEVENT
DTSTART;TZID=America/New_York:20290104T183000
DTEND;TZID=America/New_York:20290104T203000
DTSTAMP:20260422T155628
CREATED:20260319T194043Z
LAST-MODIFIED:20260319T194403Z
UID:10003384-1862245800-1862253000@www.harborpines.com
SUMMARY:Trivia Night
DESCRIPTION:
URL:https://www.harborpines.com/event/trivia-night-4/2029-01-04/
ATTACH;FMTTYPE=image/jpeg:https://www.harborpines.com/wp-content/uploads/sites/9235/2026/03/trivia-night-2026April-1.jpg
END:VEVENT
BEGIN:VEVENT
DTSTART;TZID=America/New_York:20290111T183000
DTEND;TZID=America/New_York:20290111T203000
DTSTAMP:20260422T155628
CREATED:20260319T194043Z
LAST-MODIFIED:20260319T194403Z
UID:10003385-1862850600-1862857800@www.harborpines.com
SUMMARY:Trivia Night
DESCRIPTION:
URL:https://www.harborpines.com/event/trivia-night-4/2029-01-11/
ATTACH;FMTTYPE=image/jpeg:https://www.harborpines.com/wp-content/uploads/sites/9235/2026/03/trivia-night-2026April-1.jpg
END:VEVENT
BEGIN:VEVENT
DTSTART;TZID=America/New_York:20290118T183000
DTEND;TZID=America/New_York:20290118T203000
DTSTAMP:20260422T155629
CREATED:20260319T194043Z
LAST-MODIFIED:20260319T194403Z
UID:10003386-1863455400-1863462600@www.harborpines.com
SUMMARY:Trivia Night
DESCRIPTION:
URL:https://www.harborpines.com/event/trivia-night-4/2029-01-18/
ATTACH;FMTTYPE=image/jpeg:https://www.harborpines.com/wp-content/uploads/sites/9235/2026/03/trivia-night-2026April-1.jpg
END:VEVENT
BEGIN:VEVENT
DTSTART;TZID=America/New_York:20290125T183000
DTEND;TZID=America/New_York:20290125T203000
DTSTAMP:20260422T155629
CREATED:20260319T194043Z
LAST-MODIFIED:20260319T194403Z
UID:10003387-1864060200-1864067400@www.harborpines.com
SUMMARY:Trivia Night
DESCRIPTION:
URL:https://www.harborpines.com/event/trivia-night-4/2029-01-25/
ATTACH;FMTTYPE=image/jpeg:https://www.harborpines.com/wp-content/uploads/sites/9235/2026/03/trivia-night-2026April-1.jpg
END:VEVENT
BEGIN:VEVENT
DTSTART;TZID=America/New_York:20290201T183000
DTEND;TZID=America/New_York:20290201T203000
DTSTAMP:20260422T155629
CREATED:20260319T194043Z
LAST-MODIFIED:20260319T194403Z
UID:10003388-1864665000-1864672200@www.harborpines.com
SUMMARY:Trivia Night
DESCRIPTION:
URL:https://www.harborpines.com/event/trivia-night-4/2029-02-01/
ATTACH;FMTTYPE=image/jpeg:https://www.harborpines.com/wp-content/uploads/sites/9235/2026/03/trivia-night-2026April-1.jpg
END:VEVENT
BEGIN:VEVENT
DTSTART;TZID=America/New_York:20290208T183000
DTEND;TZID=America/New_York:20290208T203000
DTSTAMP:20260422T155629
CREATED:20260319T194043Z
LAST-MODIFIED:20260319T194403Z
UID:10003389-1865269800-1865277000@www.harborpines.com
SUMMARY:Trivia Night
DESCRIPTION:
URL:https://www.harborpines.com/event/trivia-night-4/2029-02-08/
ATTACH;FMTTYPE=image/jpeg:https://www.harborpines.com/wp-content/uploads/sites/9235/2026/03/trivia-night-2026April-1.jpg
END:VEVENT
BEGIN:VEVENT
DTSTART;TZID=America/New_York:20290215T183000
DTEND;TZID=America/New_York:20290215T203000
DTSTAMP:20260422T155629
CREATED:20260319T194043Z
LAST-MODIFIED:20260319T194403Z
UID:10003390-1865874600-1865881800@www.harborpines.com
SUMMARY:Trivia Night
DESCRIPTION:
URL:https://www.harborpines.com/event/trivia-night-4/2029-02-15/
ATTACH;FMTTYPE=image/jpeg:https://www.harborpines.com/wp-content/uploads/sites/9235/2026/03/trivia-night-2026April-1.jpg
END:VEVENT
BEGIN:VEVENT
DTSTART;TZID=America/New_York:20290222T183000
DTEND;TZID=America/New_York:20290222T203000
DTSTAMP:20260422T155629
CREATED:20260319T194043Z
LAST-MODIFIED:20260319T194403Z
UID:10003391-1866479400-1866486600@www.harborpines.com
SUMMARY:Trivia Night
DESCRIPTION:
URL:https://www.harborpines.com/event/trivia-night-4/2029-02-22/
ATTACH;FMTTYPE=image/jpeg:https://www.harborpines.com/wp-content/uploads/sites/9235/2026/03/trivia-night-2026April-1.jpg
END:VEVENT
BEGIN:VEVENT
DTSTART;TZID=America/New_York:20290301T183000
DTEND;TZID=America/New_York:20290301T203000
DTSTAMP:20260422T155629
CREATED:20260319T194043Z
LAST-MODIFIED:20260319T194403Z
UID:10003392-1867084200-1867091400@www.harborpines.com
SUMMARY:Trivia Night
DESCRIPTION:
URL:https://www.harborpines.com/event/trivia-night-4/2029-03-01/
ATTACH;FMTTYPE=image/jpeg:https://www.harborpines.com/wp-content/uploads/sites/9235/2026/03/trivia-night-2026April-1.jpg
END:VEVENT
BEGIN:VEVENT
DTSTART;TZID=America/New_York:20290308T183000
DTEND;TZID=America/New_York:20290308T203000
DTSTAMP:20260422T155629
CREATED:20260319T194043Z
LAST-MODIFIED:20260319T194403Z
UID:10003393-1867689000-1867696200@www.harborpines.com
SUMMARY:Trivia Night
DESCRIPTION:
URL:https://www.harborpines.com/event/trivia-night-4/2029-03-08/
ATTACH;FMTTYPE=image/jpeg:https://www.harborpines.com/wp-content/uploads/sites/9235/2026/03/trivia-night-2026April-1.jpg
END:VEVENT
BEGIN:VEVENT
DTSTART;TZID=America/New_York:20290315T183000
DTEND;TZID=America/New_York:20290315T203000
DTSTAMP:20260422T155629
CREATED:20260319T194043Z
LAST-MODIFIED:20260319T194403Z
UID:10003394-1868293800-1868301000@www.harborpines.com
SUMMARY:Trivia Night
DESCRIPTION:
URL:https://www.harborpines.com/event/trivia-night-4/2029-03-15/
ATTACH;FMTTYPE=image/jpeg:https://www.harborpines.com/wp-content/uploads/sites/9235/2026/03/trivia-night-2026April-1.jpg
END:VEVENT
BEGIN:VEVENT
DTSTART;TZID=America/New_York:20290322T183000
DTEND;TZID=America/New_York:20290322T203000
DTSTAMP:20260422T155629
CREATED:20260319T194043Z
LAST-MODIFIED:20260319T194403Z
UID:10003395-1868898600-1868905800@www.harborpines.com
SUMMARY:Trivia Night
DESCRIPTION:
URL:https://www.harborpines.com/event/trivia-night-4/2029-03-22/
ATTACH;FMTTYPE=image/jpeg:https://www.harborpines.com/wp-content/uploads/sites/9235/2026/03/trivia-night-2026April-1.jpg
END:VEVENT
BEGIN:VEVENT
DTSTART;TZID=America/New_York:20290329T183000
DTEND;TZID=America/New_York:20290329T203000
DTSTAMP:20260422T155629
CREATED:20260319T194043Z
LAST-MODIFIED:20260319T194403Z
UID:10003396-1869503400-1869510600@www.harborpines.com
SUMMARY:Trivia Night
DESCRIPTION:
URL:https://www.harborpines.com/event/trivia-night-4/2029-03-29/
ATTACH;FMTTYPE=image/jpeg:https://www.harborpines.com/wp-content/uploads/sites/9235/2026/03/trivia-night-2026April-1.jpg
END:VEVENT
BEGIN:VEVENT
DTSTART;TZID=America/New_York:20290405T183000
DTEND;TZID=America/New_York:20290405T203000
DTSTAMP:20260422T155629
CREATED:20260319T194043Z
LAST-MODIFIED:20260319T194403Z
UID:10003397-1870108200-1870115400@www.harborpines.com
SUMMARY:Trivia Night
DESCRIPTION:
URL:https://www.harborpines.com/event/trivia-night-4/2029-04-05/
ATTACH;FMTTYPE=image/jpeg:https://www.harborpines.com/wp-content/uploads/sites/9235/2026/03/trivia-night-2026April-1.jpg
END:VEVENT
BEGIN:VEVENT
DTSTART;TZID=America/New_York:20290412T183000
DTEND;TZID=America/New_York:20290412T203000
DTSTAMP:20260422T155629
CREATED:20260319T194043Z
LAST-MODIFIED:20260319T194403Z
UID:10003398-1870713000-1870720200@www.harborpines.com
SUMMARY:Trivia Night
DESCRIPTION:
URL:https://www.harborpines.com/event/trivia-night-4/2029-04-12/
ATTACH;FMTTYPE=image/jpeg:https://www.harborpines.com/wp-content/uploads/sites/9235/2026/03/trivia-night-2026April-1.jpg
END:VEVENT
BEGIN:VEVENT
DTSTART;TZID=America/New_York:20290419T183000
DTEND;TZID=America/New_York:20290419T203000
DTSTAMP:20260422T155629
CREATED:20260319T194043Z
LAST-MODIFIED:20260319T194403Z
UID:10003399-1871317800-1871325000@www.harborpines.com
SUMMARY:Trivia Night
DESCRIPTION:
URL:https://www.harborpines.com/event/trivia-night-4/2029-04-19/
ATTACH;FMTTYPE=image/jpeg:https://www.harborpines.com/wp-content/uploads/sites/9235/2026/03/trivia-night-2026April-1.jpg
END:VEVENT
BEGIN:VEVENT
DTSTART;TZID=America/New_York:20290426T183000
DTEND;TZID=America/New_York:20290426T203000
DTSTAMP:20260422T155629
CREATED:20260319T194043Z
LAST-MODIFIED:20260319T194403Z
UID:10003400-1871922600-1871929800@www.harborpines.com
SUMMARY:Trivia Night
DESCRIPTION:
URL:https://www.harborpines.com/event/trivia-night-4/2029-04-26/
ATTACH;FMTTYPE=image/jpeg:https://www.harborpines.com/wp-content/uploads/sites/9235/2026/03/trivia-night-2026April-1.jpg
END:VEVENT
BEGIN:VEVENT
DTSTART;TZID=America/New_York:20290503T183000
DTEND;TZID=America/New_York:20290503T203000
DTSTAMP:20260422T155629
CREATED:20260319T194043Z
LAST-MODIFIED:20260319T194403Z
UID:10003401-1872527400-1872534600@www.harborpines.com
SUMMARY:Trivia Night
DESCRIPTION:
URL:https://www.harborpines.com/event/trivia-night-4/2029-05-03/
ATTACH;FMTTYPE=image/jpeg:https://www.harborpines.com/wp-content/uploads/sites/9235/2026/03/trivia-night-2026April-1.jpg
END:VEVENT
BEGIN:VEVENT
DTSTART;TZID=America/New_York:20290510T183000
DTEND;TZID=America/New_York:20290510T203000
DTSTAMP:20260422T155629
CREATED:20260319T194043Z
LAST-MODIFIED:20260319T194403Z
UID:10003402-1873132200-1873139400@www.harborpines.com
SUMMARY:Trivia Night
DESCRIPTION:
URL:https://www.harborpines.com/event/trivia-night-4/2029-05-10/
ATTACH;FMTTYPE=image/jpeg:https://www.harborpines.com/wp-content/uploads/sites/9235/2026/03/trivia-night-2026April-1.jpg
END:VEVENT
BEGIN:VEVENT
DTSTART;TZID=America/New_York:20290517T183000
DTEND;TZID=America/New_York:20290517T203000
DTSTAMP:20260422T155629
CREATED:20260319T194043Z
LAST-MODIFIED:20260319T194403Z
UID:10003403-1873737000-1873744200@www.harborpines.com
SUMMARY:Trivia Night
DESCRIPTION:
URL:https://www.harborpines.com/event/trivia-night-4/2029-05-17/
ATTACH;FMTTYPE=image/jpeg:https://www.harborpines.com/wp-content/uploads/sites/9235/2026/03/trivia-night-2026April-1.jpg
END:VEVENT
BEGIN:VEVENT
DTSTART;TZID=America/New_York:20290524T183000
DTEND;TZID=America/New_York:20290524T203000
DTSTAMP:20260422T155629
CREATED:20260319T194043Z
LAST-MODIFIED:20260319T194403Z
UID:10003404-1874341800-1874349000@www.harborpines.com
SUMMARY:Trivia Night
DESCRIPTION:
URL:https://www.harborpines.com/event/trivia-night-4/2029-05-24/
ATTACH;FMTTYPE=image/jpeg:https://www.harborpines.com/wp-content/uploads/sites/9235/2026/03/trivia-night-2026April-1.jpg
END:VEVENT
END:VCALENDAR