BEGIN:VCALENDAR
VERSION:2.0
PRODID:-//Harbor Pines Golf Club - ECPv6.15.18//NONSGML v1.0//EN
CALSCALE:GREGORIAN
METHOD:PUBLISH
X-ORIGINAL-URL:https://www.harborpines.com
X-WR-CALDESC:Events for Harbor Pines Golf Club
REFRESH-INTERVAL;VALUE=DURATION:PT1H
X-Robots-Tag:noindex
X-PUBLISHED-TTL:PT1H
BEGIN:VTIMEZONE
TZID:America/New_York
BEGIN:DAYLIGHT
TZOFFSETFROM:-0500
TZOFFSETTO:-0400
TZNAME:EDT
DTSTART:20250309T070000
END:DAYLIGHT
BEGIN:STANDARD
TZOFFSETFROM:-0400
TZOFFSETTO:-0500
TZNAME:EST
DTSTART:20251102T060000
END:STANDARD
BEGIN:DAYLIGHT
TZOFFSETFROM:-0500
TZOFFSETTO:-0400
TZNAME:EDT
DTSTART:20260308T070000
END:DAYLIGHT
BEGIN:STANDARD
TZOFFSETFROM:-0400
TZOFFSETTO:-0500
TZNAME:EST
DTSTART:20261101T060000
END:STANDARD
BEGIN:DAYLIGHT
TZOFFSETFROM:-0500
TZOFFSETTO:-0400
TZNAME:EDT
DTSTART:20270314T070000
END:DAYLIGHT
BEGIN:STANDARD
TZOFFSETFROM:-0400
TZOFFSETTO:-0500
TZNAME:EST
DTSTART:20271107T060000
END:STANDARD
BEGIN:DAYLIGHT
TZOFFSETFROM:-0500
TZOFFSETTO:-0400
TZNAME:EDT
DTSTART:20280312T070000
END:DAYLIGHT
BEGIN:STANDARD
TZOFFSETFROM:-0400
TZOFFSETTO:-0500
TZNAME:EST
DTSTART:20281105T060000
END:STANDARD
END:VTIMEZONE
BEGIN:VEVENT
DTSTART;TZID=America/New_York:20260721T183000
DTEND;TZID=America/New_York:20260721T203000
DTSTAMP:20260424T123804
CREATED:20260128T212626Z
LAST-MODIFIED:20260331T132037Z
UID:10003524-1784658600-1784665800@www.harborpines.com
SUMMARY:"Music Bingo" Tuesday Weekly
DESCRIPTION:
URL:https://www.harborpines.com/event/music-bingo-tuesday-weekly/2026-07-21/
ATTACH;FMTTYPE=image/jpeg:https://www.harborpines.com/wp-content/uploads/sites/9235/2026/01/Music-Bingo-Main.jpg
END:VEVENT
BEGIN:VEVENT
DTSTART;TZID=America/New_York:20260728T183000
DTEND;TZID=America/New_York:20260728T203000
DTSTAMP:20260424T123804
CREATED:20260128T212626Z
LAST-MODIFIED:20260331T132037Z
UID:10003525-1785263400-1785270600@www.harborpines.com
SUMMARY:"Music Bingo" Tuesday Weekly
DESCRIPTION:
URL:https://www.harborpines.com/event/music-bingo-tuesday-weekly/2026-07-28/
ATTACH;FMTTYPE=image/jpeg:https://www.harborpines.com/wp-content/uploads/sites/9235/2026/01/Music-Bingo-Main.jpg
END:VEVENT
BEGIN:VEVENT
DTSTART;TZID=America/New_York:20260804T183000
DTEND;TZID=America/New_York:20260804T203000
DTSTAMP:20260424T123804
CREATED:20260128T212626Z
LAST-MODIFIED:20260331T132037Z
UID:10003526-1785868200-1785875400@www.harborpines.com
SUMMARY:"Music Bingo" Tuesday Weekly
DESCRIPTION:
URL:https://www.harborpines.com/event/music-bingo-tuesday-weekly/2026-08-04/
ATTACH;FMTTYPE=image/jpeg:https://www.harborpines.com/wp-content/uploads/sites/9235/2026/01/Music-Bingo-Main.jpg
END:VEVENT
BEGIN:VEVENT
DTSTART;TZID=America/New_York:20260811T183000
DTEND;TZID=America/New_York:20260811T203000
DTSTAMP:20260424T123804
CREATED:20260128T212626Z
LAST-MODIFIED:20260331T132037Z
UID:10003527-1786473000-1786480200@www.harborpines.com
SUMMARY:"Music Bingo" Tuesday Weekly
DESCRIPTION:
URL:https://www.harborpines.com/event/music-bingo-tuesday-weekly/2026-08-11/
ATTACH;FMTTYPE=image/jpeg:https://www.harborpines.com/wp-content/uploads/sites/9235/2026/01/Music-Bingo-Main.jpg
END:VEVENT
BEGIN:VEVENT
DTSTART;TZID=America/New_York:20260818T183000
DTEND;TZID=America/New_York:20260818T203000
DTSTAMP:20260424T123804
CREATED:20260128T212626Z
LAST-MODIFIED:20260331T132037Z
UID:10003528-1787077800-1787085000@www.harborpines.com
SUMMARY:"Music Bingo" Tuesday Weekly
DESCRIPTION:
URL:https://www.harborpines.com/event/music-bingo-tuesday-weekly/2026-08-18/
ATTACH;FMTTYPE=image/jpeg:https://www.harborpines.com/wp-content/uploads/sites/9235/2026/01/Music-Bingo-Main.jpg
END:VEVENT
BEGIN:VEVENT
DTSTART;TZID=America/New_York:20260825T183000
DTEND;TZID=America/New_York:20260825T203000
DTSTAMP:20260424T123804
CREATED:20260128T212626Z
LAST-MODIFIED:20260331T132037Z
UID:10003529-1787682600-1787689800@www.harborpines.com
SUMMARY:"Music Bingo" Tuesday Weekly
DESCRIPTION:
URL:https://www.harborpines.com/event/music-bingo-tuesday-weekly/2026-08-25/
ATTACH;FMTTYPE=image/jpeg:https://www.harborpines.com/wp-content/uploads/sites/9235/2026/01/Music-Bingo-Main.jpg
END:VEVENT
BEGIN:VEVENT
DTSTART;TZID=America/New_York:20260901T183000
DTEND;TZID=America/New_York:20260901T203000
DTSTAMP:20260424T123804
CREATED:20260128T212626Z
LAST-MODIFIED:20260331T132037Z
UID:10003530-1788287400-1788294600@www.harborpines.com
SUMMARY:"Music Bingo" Tuesday Weekly
DESCRIPTION:
URL:https://www.harborpines.com/event/music-bingo-tuesday-weekly/2026-09-01/
ATTACH;FMTTYPE=image/jpeg:https://www.harborpines.com/wp-content/uploads/sites/9235/2026/01/Music-Bingo-Main.jpg
END:VEVENT
BEGIN:VEVENT
DTSTART;TZID=America/New_York:20260908T183000
DTEND;TZID=America/New_York:20260908T203000
DTSTAMP:20260424T123804
CREATED:20260128T212626Z
LAST-MODIFIED:20260331T132037Z
UID:10003531-1788892200-1788899400@www.harborpines.com
SUMMARY:"Music Bingo" Tuesday Weekly
DESCRIPTION:
URL:https://www.harborpines.com/event/music-bingo-tuesday-weekly/2026-09-08/
ATTACH;FMTTYPE=image/jpeg:https://www.harborpines.com/wp-content/uploads/sites/9235/2026/01/Music-Bingo-Main.jpg
END:VEVENT
BEGIN:VEVENT
DTSTART;TZID=America/New_York:20260915T183000
DTEND;TZID=America/New_York:20260915T203000
DTSTAMP:20260424T123804
CREATED:20260128T212626Z
LAST-MODIFIED:20260331T132037Z
UID:10003532-1789497000-1789504200@www.harborpines.com
SUMMARY:"Music Bingo" Tuesday Weekly
DESCRIPTION:
URL:https://www.harborpines.com/event/music-bingo-tuesday-weekly/2026-09-15/
ATTACH;FMTTYPE=image/jpeg:https://www.harborpines.com/wp-content/uploads/sites/9235/2026/01/Music-Bingo-Main.jpg
END:VEVENT
BEGIN:VEVENT
DTSTART;TZID=America/New_York:20260922T183000
DTEND;TZID=America/New_York:20260922T203000
DTSTAMP:20260424T123804
CREATED:20260128T212626Z
LAST-MODIFIED:20260331T132037Z
UID:10003533-1790101800-1790109000@www.harborpines.com
SUMMARY:"Music Bingo" Tuesday Weekly
DESCRIPTION:
URL:https://www.harborpines.com/event/music-bingo-tuesday-weekly/2026-09-22/
ATTACH;FMTTYPE=image/jpeg:https://www.harborpines.com/wp-content/uploads/sites/9235/2026/01/Music-Bingo-Main.jpg
END:VEVENT
BEGIN:VEVENT
DTSTART;TZID=America/New_York:20260929T183000
DTEND;TZID=America/New_York:20260929T203000
DTSTAMP:20260424T123804
CREATED:20260128T212626Z
LAST-MODIFIED:20260331T132037Z
UID:10003534-1790706600-1790713800@www.harborpines.com
SUMMARY:"Music Bingo" Tuesday Weekly
DESCRIPTION:
URL:https://www.harborpines.com/event/music-bingo-tuesday-weekly/2026-09-29/
ATTACH;FMTTYPE=image/jpeg:https://www.harborpines.com/wp-content/uploads/sites/9235/2026/01/Music-Bingo-Main.jpg
END:VEVENT
BEGIN:VEVENT
DTSTART;TZID=America/New_York:20261006T183000
DTEND;TZID=America/New_York:20261006T203000
DTSTAMP:20260424T123804
CREATED:20260128T212626Z
LAST-MODIFIED:20260331T132037Z
UID:10003535-1791311400-1791318600@www.harborpines.com
SUMMARY:"Music Bingo" Tuesday Weekly
DESCRIPTION:
URL:https://www.harborpines.com/event/music-bingo-tuesday-weekly/2026-10-06/
ATTACH;FMTTYPE=image/jpeg:https://www.harborpines.com/wp-content/uploads/sites/9235/2026/01/Music-Bingo-Main.jpg
END:VEVENT
BEGIN:VEVENT
DTSTART;TZID=America/New_York:20261013T183000
DTEND;TZID=America/New_York:20261013T203000
DTSTAMP:20260424T123804
CREATED:20260128T212626Z
LAST-MODIFIED:20260331T132037Z
UID:10003536-1791916200-1791923400@www.harborpines.com
SUMMARY:"Music Bingo" Tuesday Weekly
DESCRIPTION:
URL:https://www.harborpines.com/event/music-bingo-tuesday-weekly/2026-10-13/
ATTACH;FMTTYPE=image/jpeg:https://www.harborpines.com/wp-content/uploads/sites/9235/2026/01/Music-Bingo-Main.jpg
END:VEVENT
BEGIN:VEVENT
DTSTART;TZID=America/New_York:20261020T183000
DTEND;TZID=America/New_York:20261020T203000
DTSTAMP:20260424T123804
CREATED:20260128T212626Z
LAST-MODIFIED:20260331T132037Z
UID:10003537-1792521000-1792528200@www.harborpines.com
SUMMARY:"Music Bingo" Tuesday Weekly
DESCRIPTION:
URL:https://www.harborpines.com/event/music-bingo-tuesday-weekly/2026-10-20/
ATTACH;FMTTYPE=image/jpeg:https://www.harborpines.com/wp-content/uploads/sites/9235/2026/01/Music-Bingo-Main.jpg
END:VEVENT
BEGIN:VEVENT
DTSTART;TZID=America/New_York:20261027T183000
DTEND;TZID=America/New_York:20261027T203000
DTSTAMP:20260424T123804
CREATED:20260128T212626Z
LAST-MODIFIED:20260331T132037Z
UID:10003538-1793125800-1793133000@www.harborpines.com
SUMMARY:"Music Bingo" Tuesday Weekly
DESCRIPTION:
URL:https://www.harborpines.com/event/music-bingo-tuesday-weekly/2026-10-27/
ATTACH;FMTTYPE=image/jpeg:https://www.harborpines.com/wp-content/uploads/sites/9235/2026/01/Music-Bingo-Main.jpg
END:VEVENT
BEGIN:VEVENT
DTSTART;TZID=America/New_York:20261103T183000
DTEND;TZID=America/New_York:20261103T203000
DTSTAMP:20260424T123804
CREATED:20260128T212626Z
LAST-MODIFIED:20260331T132037Z
UID:10003539-1793730600-1793737800@www.harborpines.com
SUMMARY:"Music Bingo" Tuesday Weekly
DESCRIPTION:
URL:https://www.harborpines.com/event/music-bingo-tuesday-weekly/2026-11-03/
ATTACH;FMTTYPE=image/jpeg:https://www.harborpines.com/wp-content/uploads/sites/9235/2026/01/Music-Bingo-Main.jpg
END:VEVENT
BEGIN:VEVENT
DTSTART;TZID=America/New_York:20261110T183000
DTEND;TZID=America/New_York:20261110T203000
DTSTAMP:20260424T123804
CREATED:20260128T212626Z
LAST-MODIFIED:20260331T132037Z
UID:10003540-1794335400-1794342600@www.harborpines.com
SUMMARY:"Music Bingo" Tuesday Weekly
DESCRIPTION:
URL:https://www.harborpines.com/event/music-bingo-tuesday-weekly/2026-11-10/
ATTACH;FMTTYPE=image/jpeg:https://www.harborpines.com/wp-content/uploads/sites/9235/2026/01/Music-Bingo-Main.jpg
END:VEVENT
BEGIN:VEVENT
DTSTART;TZID=America/New_York:20261117T183000
DTEND;TZID=America/New_York:20261117T203000
DTSTAMP:20260424T123804
CREATED:20260128T212626Z
LAST-MODIFIED:20260331T132037Z
UID:10003541-1794940200-1794947400@www.harborpines.com
SUMMARY:"Music Bingo" Tuesday Weekly
DESCRIPTION:
URL:https://www.harborpines.com/event/music-bingo-tuesday-weekly/2026-11-17/
ATTACH;FMTTYPE=image/jpeg:https://www.harborpines.com/wp-content/uploads/sites/9235/2026/01/Music-Bingo-Main.jpg
END:VEVENT
BEGIN:VEVENT
DTSTART;TZID=America/New_York:20261124T183000
DTEND;TZID=America/New_York:20261124T203000
DTSTAMP:20260424T123804
CREATED:20260128T212626Z
LAST-MODIFIED:20260331T132037Z
UID:10003542-1795545000-1795552200@www.harborpines.com
SUMMARY:"Music Bingo" Tuesday Weekly
DESCRIPTION:
URL:https://www.harborpines.com/event/music-bingo-tuesday-weekly/2026-11-24/
ATTACH;FMTTYPE=image/jpeg:https://www.harborpines.com/wp-content/uploads/sites/9235/2026/01/Music-Bingo-Main.jpg
END:VEVENT
BEGIN:VEVENT
DTSTART;TZID=America/New_York:20261201T183000
DTEND;TZID=America/New_York:20261201T203000
DTSTAMP:20260424T123804
CREATED:20260128T212626Z
LAST-MODIFIED:20260331T132037Z
UID:10003543-1796149800-1796157000@www.harborpines.com
SUMMARY:"Music Bingo" Tuesday Weekly
DESCRIPTION:
URL:https://www.harborpines.com/event/music-bingo-tuesday-weekly/2026-12-01/
ATTACH;FMTTYPE=image/jpeg:https://www.harborpines.com/wp-content/uploads/sites/9235/2026/01/Music-Bingo-Main.jpg
END:VEVENT
BEGIN:VEVENT
DTSTART;TZID=America/New_York:20261208T183000
DTEND;TZID=America/New_York:20261208T203000
DTSTAMP:20260424T123804
CREATED:20260128T212626Z
LAST-MODIFIED:20260331T132037Z
UID:10003544-1796754600-1796761800@www.harborpines.com
SUMMARY:"Music Bingo" Tuesday Weekly
DESCRIPTION:
URL:https://www.harborpines.com/event/music-bingo-tuesday-weekly/2026-12-08/
ATTACH;FMTTYPE=image/jpeg:https://www.harborpines.com/wp-content/uploads/sites/9235/2026/01/Music-Bingo-Main.jpg
END:VEVENT
BEGIN:VEVENT
DTSTART;TZID=America/New_York:20261215T183000
DTEND;TZID=America/New_York:20261215T203000
DTSTAMP:20260424T123804
CREATED:20260128T212626Z
LAST-MODIFIED:20260331T132037Z
UID:10003545-1797359400-1797366600@www.harborpines.com
SUMMARY:"Music Bingo" Tuesday Weekly
DESCRIPTION:
URL:https://www.harborpines.com/event/music-bingo-tuesday-weekly/2026-12-15/
ATTACH;FMTTYPE=image/jpeg:https://www.harborpines.com/wp-content/uploads/sites/9235/2026/01/Music-Bingo-Main.jpg
END:VEVENT
BEGIN:VEVENT
DTSTART;TZID=America/New_York:20261222T183000
DTEND;TZID=America/New_York:20261222T203000
DTSTAMP:20260424T123804
CREATED:20260128T212626Z
LAST-MODIFIED:20260331T132037Z
UID:10003546-1797964200-1797971400@www.harborpines.com
SUMMARY:"Music Bingo" Tuesday Weekly
DESCRIPTION:
URL:https://www.harborpines.com/event/music-bingo-tuesday-weekly/2026-12-22/
ATTACH;FMTTYPE=image/jpeg:https://www.harborpines.com/wp-content/uploads/sites/9235/2026/01/Music-Bingo-Main.jpg
END:VEVENT
BEGIN:VEVENT
DTSTART;TZID=America/New_York:20261229T183000
DTEND;TZID=America/New_York:20261229T203000
DTSTAMP:20260424T123804
CREATED:20260128T212626Z
LAST-MODIFIED:20260331T132037Z
UID:10003547-1798569000-1798576200@www.harborpines.com
SUMMARY:"Music Bingo" Tuesday Weekly
DESCRIPTION:
URL:https://www.harborpines.com/event/music-bingo-tuesday-weekly/2026-12-29/
ATTACH;FMTTYPE=image/jpeg:https://www.harborpines.com/wp-content/uploads/sites/9235/2026/01/Music-Bingo-Main.jpg
END:VEVENT
BEGIN:VEVENT
DTSTART;TZID=America/New_York:20270105T183000
DTEND;TZID=America/New_York:20270105T203000
DTSTAMP:20260424T123804
CREATED:20260128T212626Z
LAST-MODIFIED:20260331T132037Z
UID:10003548-1799173800-1799181000@www.harborpines.com
SUMMARY:"Music Bingo" Tuesday Weekly
DESCRIPTION:
URL:https://www.harborpines.com/event/music-bingo-tuesday-weekly/2027-01-05/
ATTACH;FMTTYPE=image/jpeg:https://www.harborpines.com/wp-content/uploads/sites/9235/2026/01/Music-Bingo-Main.jpg
END:VEVENT
BEGIN:VEVENT
DTSTART;TZID=America/New_York:20270112T183000
DTEND;TZID=America/New_York:20270112T203000
DTSTAMP:20260424T123804
CREATED:20260128T212626Z
LAST-MODIFIED:20260331T132037Z
UID:10003549-1799778600-1799785800@www.harborpines.com
SUMMARY:"Music Bingo" Tuesday Weekly
DESCRIPTION:
URL:https://www.harborpines.com/event/music-bingo-tuesday-weekly/2027-01-12/
ATTACH;FMTTYPE=image/jpeg:https://www.harborpines.com/wp-content/uploads/sites/9235/2026/01/Music-Bingo-Main.jpg
END:VEVENT
BEGIN:VEVENT
DTSTART;TZID=America/New_York:20270119T183000
DTEND;TZID=America/New_York:20270119T203000
DTSTAMP:20260424T123804
CREATED:20260128T212626Z
LAST-MODIFIED:20260331T132037Z
UID:10003550-1800383400-1800390600@www.harborpines.com
SUMMARY:"Music Bingo" Tuesday Weekly
DESCRIPTION:
URL:https://www.harborpines.com/event/music-bingo-tuesday-weekly/2027-01-19/
ATTACH;FMTTYPE=image/jpeg:https://www.harborpines.com/wp-content/uploads/sites/9235/2026/01/Music-Bingo-Main.jpg
END:VEVENT
BEGIN:VEVENT
DTSTART;TZID=America/New_York:20270126T183000
DTEND;TZID=America/New_York:20270126T203000
DTSTAMP:20260424T123804
CREATED:20260128T212626Z
LAST-MODIFIED:20260331T132037Z
UID:10003551-1800988200-1800995400@www.harborpines.com
SUMMARY:"Music Bingo" Tuesday Weekly
DESCRIPTION:
URL:https://www.harborpines.com/event/music-bingo-tuesday-weekly/2027-01-26/
ATTACH;FMTTYPE=image/jpeg:https://www.harborpines.com/wp-content/uploads/sites/9235/2026/01/Music-Bingo-Main.jpg
END:VEVENT
BEGIN:VEVENT
DTSTART;TZID=America/New_York:20270202T183000
DTEND;TZID=America/New_York:20270202T203000
DTSTAMP:20260424T123804
CREATED:20260128T212626Z
LAST-MODIFIED:20260331T132037Z
UID:10003552-1801593000-1801600200@www.harborpines.com
SUMMARY:"Music Bingo" Tuesday Weekly
DESCRIPTION:
URL:https://www.harborpines.com/event/music-bingo-tuesday-weekly/2027-02-02/
ATTACH;FMTTYPE=image/jpeg:https://www.harborpines.com/wp-content/uploads/sites/9235/2026/01/Music-Bingo-Main.jpg
END:VEVENT
BEGIN:VEVENT
DTSTART;TZID=America/New_York:20270209T183000
DTEND;TZID=America/New_York:20270209T203000
DTSTAMP:20260424T123804
CREATED:20260128T212626Z
LAST-MODIFIED:20260331T132037Z
UID:10003553-1802197800-1802205000@www.harborpines.com
SUMMARY:"Music Bingo" Tuesday Weekly
DESCRIPTION:
URL:https://www.harborpines.com/event/music-bingo-tuesday-weekly/2027-02-09/
ATTACH;FMTTYPE=image/jpeg:https://www.harborpines.com/wp-content/uploads/sites/9235/2026/01/Music-Bingo-Main.jpg
END:VEVENT
END:VCALENDAR