BEGIN:VCALENDAR
VERSION:2.0
PRODID:-//Harbor Pines Golf Club - ECPv6.15.18//NONSGML v1.0//EN
CALSCALE:GREGORIAN
METHOD:PUBLISH
X-ORIGINAL-URL:https://www.harborpines.com
X-WR-CALDESC:Events for Harbor Pines Golf Club
REFRESH-INTERVAL;VALUE=DURATION:PT1H
X-Robots-Tag:noindex
X-PUBLISHED-TTL:PT1H
BEGIN:VTIMEZONE
TZID:America/New_York
BEGIN:DAYLIGHT
TZOFFSETFROM:-0500
TZOFFSETTO:-0400
TZNAME:EDT
DTSTART:20280312T070000
END:DAYLIGHT
BEGIN:STANDARD
TZOFFSETFROM:-0400
TZOFFSETTO:-0500
TZNAME:EST
DTSTART:20281105T060000
END:STANDARD
BEGIN:DAYLIGHT
TZOFFSETFROM:-0500
TZOFFSETTO:-0400
TZNAME:EDT
DTSTART:20290311T070000
END:DAYLIGHT
BEGIN:STANDARD
TZOFFSETFROM:-0400
TZOFFSETTO:-0500
TZNAME:EST
DTSTART:20291104T060000
END:STANDARD
BEGIN:DAYLIGHT
TZOFFSETFROM:-0500
TZOFFSETTO:-0400
TZNAME:EDT
DTSTART:20300310T070000
END:DAYLIGHT
BEGIN:STANDARD
TZOFFSETFROM:-0400
TZOFFSETTO:-0500
TZNAME:EST
DTSTART:20301103T060000
END:STANDARD
END:VTIMEZONE
BEGIN:VEVENT
DTSTART;TZID=America/New_York:20290501T183000
DTEND;TZID=America/New_York:20290501T203000
DTSTAMP:20260421T141351
CREATED:20260128T212626Z
LAST-MODIFIED:20260331T132037Z
UID:10003669-1872354600-1872361800@www.harborpines.com
SUMMARY:"Music Bingo" Tuesday Weekly
DESCRIPTION:
URL:https://www.harborpines.com/event/music-bingo-tuesday-weekly/2029-05-01/
ATTACH;FMTTYPE=image/jpeg:https://www.harborpines.com/wp-content/uploads/sites/9235/2026/01/Music-Bingo-Main.jpg
END:VEVENT
BEGIN:VEVENT
DTSTART;TZID=America/New_York:20290503T183000
DTEND;TZID=America/New_York:20290503T203000
DTSTAMP:20260421T141351
CREATED:20260319T194043Z
LAST-MODIFIED:20260319T194403Z
UID:10003401-1872527400-1872534600@www.harborpines.com
SUMMARY:Trivia Night
DESCRIPTION:
URL:https://www.harborpines.com/event/trivia-night-4/2029-05-03/
ATTACH;FMTTYPE=image/jpeg:https://www.harborpines.com/wp-content/uploads/sites/9235/2026/03/trivia-night-2026April-1.jpg
END:VEVENT
BEGIN:VEVENT
DTSTART;TZID=America/New_York:20290508T183000
DTEND;TZID=America/New_York:20290508T203000
DTSTAMP:20260421T141351
CREATED:20260128T212626Z
LAST-MODIFIED:20260331T132037Z
UID:10003670-1872959400-1872966600@www.harborpines.com
SUMMARY:"Music Bingo" Tuesday Weekly
DESCRIPTION:
URL:https://www.harborpines.com/event/music-bingo-tuesday-weekly/2029-05-08/
ATTACH;FMTTYPE=image/jpeg:https://www.harborpines.com/wp-content/uploads/sites/9235/2026/01/Music-Bingo-Main.jpg
END:VEVENT
BEGIN:VEVENT
DTSTART;TZID=America/New_York:20290510T183000
DTEND;TZID=America/New_York:20290510T203000
DTSTAMP:20260421T141351
CREATED:20260319T194043Z
LAST-MODIFIED:20260319T194403Z
UID:10003402-1873132200-1873139400@www.harborpines.com
SUMMARY:Trivia Night
DESCRIPTION:
URL:https://www.harborpines.com/event/trivia-night-4/2029-05-10/
ATTACH;FMTTYPE=image/jpeg:https://www.harborpines.com/wp-content/uploads/sites/9235/2026/03/trivia-night-2026April-1.jpg
END:VEVENT
BEGIN:VEVENT
DTSTART;TZID=America/New_York:20290515T183000
DTEND;TZID=America/New_York:20290515T203000
DTSTAMP:20260421T141351
CREATED:20260128T212626Z
LAST-MODIFIED:20260331T132037Z
UID:10003671-1873564200-1873571400@www.harborpines.com
SUMMARY:"Music Bingo" Tuesday Weekly
DESCRIPTION:
URL:https://www.harborpines.com/event/music-bingo-tuesday-weekly/2029-05-15/
ATTACH;FMTTYPE=image/jpeg:https://www.harborpines.com/wp-content/uploads/sites/9235/2026/01/Music-Bingo-Main.jpg
END:VEVENT
BEGIN:VEVENT
DTSTART;TZID=America/New_York:20290517T183000
DTEND;TZID=America/New_York:20290517T203000
DTSTAMP:20260421T141351
CREATED:20260319T194043Z
LAST-MODIFIED:20260319T194403Z
UID:10003403-1873737000-1873744200@www.harborpines.com
SUMMARY:Trivia Night
DESCRIPTION:
URL:https://www.harborpines.com/event/trivia-night-4/2029-05-17/
ATTACH;FMTTYPE=image/jpeg:https://www.harborpines.com/wp-content/uploads/sites/9235/2026/03/trivia-night-2026April-1.jpg
END:VEVENT
BEGIN:VEVENT
DTSTART;TZID=America/New_York:20290522T183000
DTEND;TZID=America/New_York:20290522T203000
DTSTAMP:20260421T141351
CREATED:20260128T212626Z
LAST-MODIFIED:20260331T132037Z
UID:10003672-1874169000-1874176200@www.harborpines.com
SUMMARY:"Music Bingo" Tuesday Weekly
DESCRIPTION:
URL:https://www.harborpines.com/event/music-bingo-tuesday-weekly/2029-05-22/
ATTACH;FMTTYPE=image/jpeg:https://www.harborpines.com/wp-content/uploads/sites/9235/2026/01/Music-Bingo-Main.jpg
END:VEVENT
BEGIN:VEVENT
DTSTART;TZID=America/New_York:20290524T183000
DTEND;TZID=America/New_York:20290524T203000
DTSTAMP:20260421T141351
CREATED:20260319T194043Z
LAST-MODIFIED:20260319T194403Z
UID:10003404-1874341800-1874349000@www.harborpines.com
SUMMARY:Trivia Night
DESCRIPTION:
URL:https://www.harborpines.com/event/trivia-night-4/2029-05-24/
ATTACH;FMTTYPE=image/jpeg:https://www.harborpines.com/wp-content/uploads/sites/9235/2026/03/trivia-night-2026April-1.jpg
END:VEVENT
BEGIN:VEVENT
DTSTART;TZID=America/New_York:20290529T183000
DTEND;TZID=America/New_York:20290529T203000
DTSTAMP:20260421T141351
CREATED:20260128T212626Z
LAST-MODIFIED:20260331T132037Z
UID:10003673-1874773800-1874781000@www.harborpines.com
SUMMARY:"Music Bingo" Tuesday Weekly
DESCRIPTION:
URL:https://www.harborpines.com/event/music-bingo-tuesday-weekly/2029-05-29/
ATTACH;FMTTYPE=image/jpeg:https://www.harborpines.com/wp-content/uploads/sites/9235/2026/01/Music-Bingo-Main.jpg
END:VEVENT
BEGIN:VEVENT
DTSTART;TZID=America/New_York:20290531T183000
DTEND;TZID=America/New_York:20290531T203000
DTSTAMP:20260421T141351
CREATED:20260319T194043Z
LAST-MODIFIED:20260319T194403Z
UID:10003405-1874946600-1874953800@www.harborpines.com
SUMMARY:Trivia Night
DESCRIPTION:
URL:https://www.harborpines.com/event/trivia-night-4/2029-05-31/
ATTACH;FMTTYPE=image/jpeg:https://www.harborpines.com/wp-content/uploads/sites/9235/2026/03/trivia-night-2026April-1.jpg
END:VEVENT
END:VCALENDAR