BEGIN:VCALENDAR
VERSION:2.0
PRODID:-//Harbor Pines Golf Club - ECPv6.15.18//NONSGML v1.0//EN
CALSCALE:GREGORIAN
METHOD:PUBLISH
X-ORIGINAL-URL:https://www.harborpines.com
X-WR-CALDESC:Events for Harbor Pines Golf Club
REFRESH-INTERVAL;VALUE=DURATION:PT1H
X-Robots-Tag:noindex
X-PUBLISHED-TTL:PT1H
BEGIN:VTIMEZONE
TZID:America/New_York
BEGIN:DAYLIGHT
TZOFFSETFROM:-0500
TZOFFSETTO:-0400
TZNAME:EDT
DTSTART:20290311T070000
END:DAYLIGHT
BEGIN:STANDARD
TZOFFSETFROM:-0400
TZOFFSETTO:-0500
TZNAME:EST
DTSTART:20291104T060000
END:STANDARD
BEGIN:DAYLIGHT
TZOFFSETFROM:-0500
TZOFFSETTO:-0400
TZNAME:EDT
DTSTART:20300310T070000
END:DAYLIGHT
BEGIN:STANDARD
TZOFFSETFROM:-0400
TZOFFSETTO:-0500
TZNAME:EST
DTSTART:20301103T060000
END:STANDARD
BEGIN:DAYLIGHT
TZOFFSETFROM:-0500
TZOFFSETTO:-0400
TZNAME:EDT
DTSTART:20310309T070000
END:DAYLIGHT
BEGIN:STANDARD
TZOFFSETFROM:-0400
TZOFFSETTO:-0500
TZNAME:EST
DTSTART:20311102T060000
END:STANDARD
END:VTIMEZONE
BEGIN:VEVENT
DTSTART;TZID=America/New_York:20300502T183000
DTEND;TZID=America/New_York:20300502T203000
DTSTAMP:20260424T031504
CREATED:20260319T194043Z
LAST-MODIFIED:20260319T194403Z
UID:10003453-1903977000-1903984200@www.harborpines.com
SUMMARY:Trivia Night
DESCRIPTION:
URL:https://www.harborpines.com/event/trivia-night-4/2030-05-02/
ATTACH;FMTTYPE=image/jpeg:https://www.harborpines.com/wp-content/uploads/sites/9235/2026/03/trivia-night-2026April-1.jpg
END:VEVENT
BEGIN:VEVENT
DTSTART;TZID=America/New_York:20300507T183000
DTEND;TZID=America/New_York:20300507T203000
DTSTAMP:20260424T031504
CREATED:20260128T212626Z
LAST-MODIFIED:20260331T132037Z
UID:10003722-1904409000-1904416200@www.harborpines.com
SUMMARY:"Music Bingo" Tuesday Weekly
DESCRIPTION:
URL:https://www.harborpines.com/event/music-bingo-tuesday-weekly/2030-05-07/
ATTACH;FMTTYPE=image/jpeg:https://www.harborpines.com/wp-content/uploads/sites/9235/2026/01/Music-Bingo-Main.jpg
END:VEVENT
BEGIN:VEVENT
DTSTART;TZID=America/New_York:20300509T183000
DTEND;TZID=America/New_York:20300509T203000
DTSTAMP:20260424T031504
CREATED:20260319T194043Z
LAST-MODIFIED:20260319T194403Z
UID:10003454-1904581800-1904589000@www.harborpines.com
SUMMARY:Trivia Night
DESCRIPTION:
URL:https://www.harborpines.com/event/trivia-night-4/2030-05-09/
ATTACH;FMTTYPE=image/jpeg:https://www.harborpines.com/wp-content/uploads/sites/9235/2026/03/trivia-night-2026April-1.jpg
END:VEVENT
BEGIN:VEVENT
DTSTART;TZID=America/New_York:20300514T183000
DTEND;TZID=America/New_York:20300514T203000
DTSTAMP:20260424T031504
CREATED:20260128T212626Z
LAST-MODIFIED:20260331T132037Z
UID:10003723-1905013800-1905021000@www.harborpines.com
SUMMARY:"Music Bingo" Tuesday Weekly
DESCRIPTION:
URL:https://www.harborpines.com/event/music-bingo-tuesday-weekly/2030-05-14/
ATTACH;FMTTYPE=image/jpeg:https://www.harborpines.com/wp-content/uploads/sites/9235/2026/01/Music-Bingo-Main.jpg
END:VEVENT
BEGIN:VEVENT
DTSTART;TZID=America/New_York:20300516T183000
DTEND;TZID=America/New_York:20300516T203000
DTSTAMP:20260424T031504
CREATED:20260319T194043Z
LAST-MODIFIED:20260319T194403Z
UID:10003455-1905186600-1905193800@www.harborpines.com
SUMMARY:Trivia Night
DESCRIPTION:
URL:https://www.harborpines.com/event/trivia-night-4/2030-05-16/
ATTACH;FMTTYPE=image/jpeg:https://www.harborpines.com/wp-content/uploads/sites/9235/2026/03/trivia-night-2026April-1.jpg
END:VEVENT
BEGIN:VEVENT
DTSTART;TZID=America/New_York:20300521T183000
DTEND;TZID=America/New_York:20300521T203000
DTSTAMP:20260424T031504
CREATED:20260128T212626Z
LAST-MODIFIED:20260331T132037Z
UID:10003724-1905618600-1905625800@www.harborpines.com
SUMMARY:"Music Bingo" Tuesday Weekly
DESCRIPTION:
URL:https://www.harborpines.com/event/music-bingo-tuesday-weekly/2030-05-21/
ATTACH;FMTTYPE=image/jpeg:https://www.harborpines.com/wp-content/uploads/sites/9235/2026/01/Music-Bingo-Main.jpg
END:VEVENT
BEGIN:VEVENT
DTSTART;TZID=America/New_York:20300523T183000
DTEND;TZID=America/New_York:20300523T203000
DTSTAMP:20260424T031504
CREATED:20260319T194043Z
LAST-MODIFIED:20260319T194403Z
UID:10003456-1905791400-1905798600@www.harborpines.com
SUMMARY:Trivia Night
DESCRIPTION:
URL:https://www.harborpines.com/event/trivia-night-4/2030-05-23/
ATTACH;FMTTYPE=image/jpeg:https://www.harborpines.com/wp-content/uploads/sites/9235/2026/03/trivia-night-2026April-1.jpg
END:VEVENT
BEGIN:VEVENT
DTSTART;TZID=America/New_York:20300528T183000
DTEND;TZID=America/New_York:20300528T203000
DTSTAMP:20260424T031504
CREATED:20260128T212626Z
LAST-MODIFIED:20260331T132037Z
UID:10003725-1906223400-1906230600@www.harborpines.com
SUMMARY:"Music Bingo" Tuesday Weekly
DESCRIPTION:
URL:https://www.harborpines.com/event/music-bingo-tuesday-weekly/2030-05-28/
ATTACH;FMTTYPE=image/jpeg:https://www.harborpines.com/wp-content/uploads/sites/9235/2026/01/Music-Bingo-Main.jpg
END:VEVENT
BEGIN:VEVENT
DTSTART;TZID=America/New_York:20300530T183000
DTEND;TZID=America/New_York:20300530T203000
DTSTAMP:20260424T031504
CREATED:20260319T194043Z
LAST-MODIFIED:20260319T194403Z
UID:10003457-1906396200-1906403400@www.harborpines.com
SUMMARY:Trivia Night
DESCRIPTION:
URL:https://www.harborpines.com/event/trivia-night-4/2030-05-30/
ATTACH;FMTTYPE=image/jpeg:https://www.harborpines.com/wp-content/uploads/sites/9235/2026/03/trivia-night-2026April-1.jpg
END:VEVENT
END:VCALENDAR